BEGIN:VCALENDAR
VERSION:2.0
PRODID:-//wp-events-plugin.com//7.2.3.1//EN
TZID:Europe/Amsterdam
X-WR-TIMEZONE:Europe/Amsterdam
BEGIN:VEVENT
UID:93@fcdriebergen.nl
DTSTART;TZID=Europe/Amsterdam:20260507T193000
DTEND;TZID=Europe/Amsterdam:20260507T223000
DTSTAMP:20260329T194016Z
URL:https://fcdriebergen.nl/agenda/bestuursvergadering-8/
SUMMARY:Bestuursvergadering
DESCRIPTION:
ATTACH;FMTTYPE=image/jpeg:https://fcdriebergen.nl/wp-content/uploads/2026/
 03/FCD-bestuursvergadering.png
LOCATION:Sportpark de Woerd\, De Woerd 3\, Driebergen\, 3972 KD \, Nederlan
 d
X-APPLE-STRUCTURED-LOCATION;VALUE=URI;X-ADDRESS=De Woerd 3\, Driebergen\, 3
 972 KD \, Nederland;X-APPLE-RADIUS=100;X-TITLE=Sportpark de Woerd:geo:0,0
END:VEVENT
BEGIN:VTIMEZONE
TZID:Europe/Amsterdam
X-LIC-LOCATION:Europe/Amsterdam
BEGIN:DAYLIGHT
DTSTART:20260329T030000
TZOFFSETFROM:+0100
TZOFFSETTO:+0200
TZNAME:CEST
END:DAYLIGHT
END:VTIMEZONE
END:VCALENDAR